BEGIN:VCALENDAR
VERSION:2.0
PRODID:spatie/icalendar-generator
DESCRIPTION:Events from Ripley WV Convention &amp;amp\; Visitors Bureau
X-WR-CALDESC:Events from Ripley WV Convention &amp;amp\; Visitors Bureau
REFRESH-INTERVAL;VALUE=DURATION:PT1440M
X-PUBLISHED-TTL:PT1440M
BEGIN:VTIMEZONE
TZID:Etc/GMT+0
BEGIN:STANDARD
DTSTART:20250804T170000Z
TZOFFSETFROM:+0000
TZOFFSETTO:+0000
END:STANDARD
END:VTIMEZONE
BEGIN:VTIMEZONE
TZID:UTC
BEGIN:STANDARD
DTSTART:20250725T131459Z
TZOFFSETFROM:+0000
TZOFFSETTO:+0000
END:STANDARD
END:VTIMEZONE
BEGIN:VEVENT
UID:218-195
DTSTAMP:20260421T131459Z
SUMMARY:Epic Bingo
LOCATION:Cedar Lakes Conference Center 82 FFA Drive  Ripley WV 25271
ORGANIZER;CN=Brenda Mobley:MAILTO:director@ripleycvb.com
DTSTART;TZID=Etc/GMT+0:20260501T170000
DTEND;TZID=Etc/GMT+0:20260501T180000
X-ALT-DESC;FMTTYPE=TEXT/HTML:
CATEGORIES:General
URL;VALUE=URI:https://www.ripleycvb.com/mc-events/epic-bingo/
METHOD:PUBLISH
END:VEVENT
END:VCALENDAR