BEGIN:VCALENDAR
VERSION:2.0
PRODID:spatie/icalendar-generator
DESCRIPTION:Events from Ripley WV Convention &amp;amp\; Visitors Bureau
X-WR-CALDESC:Events from Ripley WV Convention &amp;amp\; Visitors Bureau
REFRESH-INTERVAL;VALUE=DURATION:PT1440M
X-PUBLISHED-TTL:PT1440M
BEGIN:VTIMEZONE
TZID:Etc/GMT+0
BEGIN:STANDARD
DTSTART:20240430T183000Z
TZOFFSETFROM:+0000
TZOFFSETTO:+0000
END:STANDARD
END:VTIMEZONE
BEGIN:VTIMEZONE
TZID:UTC
BEGIN:STANDARD
DTSTART:20250723T143253Z
TZOFFSETFROM:+0000
TZOFFSETTO:+0000
END:STANDARD
END:VTIMEZONE
BEGIN:VEVENT
UID:41-38
DTSTAMP:20260419T143253Z
SUMMARY:Winter Dance with 5 Spot
LOCATION:Jackson County Jr Fair Grouns 157 County Farm Road  Cottageville W
 V 25245
ORGANIZER;CN=Brenda Mobley:MAILTO:director@ripleycvb.com
DTSTART;TZID=Etc/GMT+0:20250125T183000
DTEND;TZID=Etc/GMT+0:20250125T223000
X-ALT-DESC;FMTTYPE=TEXT/HTML:Weather permitting!  Saturday\, January 25\, 
 2025\, 6:30 p.m. - 10:30 p.m.  Live music from 5 Spot\, $10 admission.  
 Pop and Water available for $1.00
CATEGORIES:General
URL;VALUE=URI:https://www.ripleycvb.com/mc-events/winter-dance-with-5-spot/
METHOD:PUBLISH
END:VEVENT
END:VCALENDAR