BEGIN:VCALENDAR
VERSION:2.0
PRODID:spatie/icalendar-generator
DESCRIPTION:Events from Ripley WV Convention &amp;amp\; Visitors Bureau
X-WR-CALDESC:Events from Ripley WV Convention &amp;amp\; Visitors Bureau
REFRESH-INTERVAL;VALUE=DURATION:PT1440M
X-PUBLISHED-TTL:PT1440M
BEGIN:VTIMEZONE
TZID:Etc/GMT+0
BEGIN:STANDARD
DTSTART:20250120T160000Z
TZOFFSETFROM:+0000
TZOFFSETTO:+0000
END:STANDARD
END:VTIMEZONE
BEGIN:VTIMEZONE
TZID:UTC
BEGIN:STANDARD
DTSTART:20250723T130834Z
TZOFFSETFROM:+0000
TZOFFSETTO:+0000
END:STANDARD
END:VTIMEZONE
BEGIN:VEVENT
UID:147-122
DTSTAMP:20260419T130834Z
SUMMARY:Ripley Community Market Trick or Treat
LOCATION:Dutch Miller of Ripley 435 S Church Street 107 1/2 Main Street W R
 ipley WV 25271
ORGANIZER;CN=Brenda Mobley:MAILTO:director@ripleycvb.com
DTSTART;TZID=Etc/GMT+0:20251017T160000
DTEND;TZID=Etc/GMT+0:20251017T190000
X-ALT-DESC;FMTTYPE=TEXT/HTML:
CATEGORIES:General
URL;VALUE=URI:https://www.ripleycvb.com/mc-events/ripley-community-market-t
 rick-or-treat/
METHOD:PUBLISH
END:VEVENT
END:VCALENDAR