BEGIN:VCALENDAR
VERSION:2.0
PRODID:spatie/icalendar-generator
DESCRIPTION:Events from Ripley WV Convention &amp;amp\; Visitors Bureau
X-WR-CALDESC:Events from Ripley WV Convention &amp;amp\; Visitors Bureau
REFRESH-INTERVAL;VALUE=DURATION:PT1440M
X-PUBLISHED-TTL:PT1440M
BEGIN:VTIMEZONE
TZID:Etc/GMT+0
BEGIN:STANDARD
DTSTART:20250909T090000Z
TZOFFSETFROM:+0000
TZOFFSETTO:+0000
END:STANDARD
END:VTIMEZONE
BEGIN:VTIMEZONE
TZID:UTC
BEGIN:STANDARD
DTSTART:20250725T114042Z
TZOFFSETFROM:+0000
TZOFFSETTO:+0000
END:STANDARD
END:VTIMEZONE
BEGIN:VEVENT
UID:227-204
DTSTAMP:20260421T114042Z
SUMMARY:Cops &amp;amp\; Bobbers Kids Fishing
LOCATION:Cedar Lakes Conference Center 82 FFA Drive  Ripley WV 25271
ORGANIZER;CN=Brenda Mobley:MAILTO:director@ripleycvb.com
DTSTART;TZID=Etc/GMT+0:20260606T090000
DTEND;TZID=Etc/GMT+0:20260606T110000
X-ALT-DESC;FMTTYPE=TEXT/HTML:
CATEGORIES:General
URL;VALUE=URI:https://www.ripleycvb.com/mc-events/cops-bobbers-kids-fishing
 /
METHOD:PUBLISH
END:VEVENT
END:VCALENDAR