BEGIN:VCALENDAR
VERSION:2.0
PRODID:spatie/icalendar-generator
DESCRIPTION:Events from Ripley WV Convention &amp;amp\; Visitors Bureau
X-WR-CALDESC:Events from Ripley WV Convention &amp;amp\; Visitors Bureau
REFRESH-INTERVAL;VALUE=DURATION:PT1440M
X-PUBLISHED-TTL:PT1440M
BEGIN:VTIMEZONE
TZID:Etc/GMT+0
BEGIN:STANDARD
DTSTART:20250805T170000Z
TZOFFSETFROM:+0000
TZOFFSETTO:+0000
END:STANDARD
END:VTIMEZONE
BEGIN:VTIMEZONE
TZID:UTC
BEGIN:STANDARD
DTSTART:20250725T113100Z
TZOFFSETFROM:+0000
TZOFFSETTO:+0000
END:STANDARD
END:VTIMEZONE
BEGIN:VEVENT
UID:231-207
DTSTAMP:20260421T113100Z
SUMMARY:Derby Day
LOCATION:Cedar Lakes Conference Center 82 FFA Drive  Ripley WV 25271
ORGANIZER;CN=Brenda Mobley:MAILTO:director@ripleycvb.com
DTSTART;TZID=Etc/GMT+0:20260502T170000
DTEND;TZID=Etc/GMT+0:20260502T193000
X-ALT-DESC;FMTTYPE=TEXT/HTML:
CATEGORIES:General
URL;VALUE=URI:https://www.ripleycvb.com/mc-events/derby-day/
METHOD:PUBLISH
END:VEVENT
END:VCALENDAR