BEGIN:VCALENDAR
VERSION:2.0
PRODID:spatie/icalendar-generator
DESCRIPTION:Events from Ripley WV Convention &amp;amp\; Visitors Bureau
X-WR-CALDESC:Events from Ripley WV Convention &amp;amp\; Visitors Bureau
REFRESH-INTERVAL;VALUE=DURATION:PT1440M
X-PUBLISHED-TTL:PT1440M
BEGIN:VTIMEZONE
TZID:Etc/GMT+0
BEGIN:STANDARD
DTSTART:20240423T190000Z
TZOFFSETFROM:+0000
TZOFFSETTO:+0000
END:STANDARD
END:VTIMEZONE
BEGIN:VTIMEZONE
TZID:UTC
BEGIN:STANDARD
DTSTART:20250723T171111Z
TZOFFSETFROM:+0000
TZOFFSETTO:+0000
END:STANDARD
END:VTIMEZONE
BEGIN:VEVENT
UID:38-35
DTSTAMP:20260419T171111Z
SUMMARY:Butcher Block - Music by McKenna Hope
LOCATION:Butcher Block 6398 Point Pleasant Road  Millwood WV 25262
ORGANIZER;CN=Brenda Mobley:MAILTO:director@ripleycvb.com
DTSTART;TZID=Etc/GMT+0:20250118T190000
DTEND;TZID=Etc/GMT+0:20250118T210000
X-ALT-DESC;FMTTYPE=TEXT/HTML:Butcher Block offering dining and music with M
 cKenna Hope\, Saturday\, January 18\, from 7-9 pm
CATEGORIES:General
URL;VALUE=URI:https://www.ripleycvb.com/mc-events/butcher-block-music-by-mc
 kenna-hope/
METHOD:PUBLISH
END:VEVENT
END:VCALENDAR